BEGIN:VCALENDAR
VERSION:2.0
PRODID:-//Ethos CRS - ECPv5.3.2//NONSGML v1.0//EN
CALSCALE:GREGORIAN
METHOD:PUBLISH
X-WR-CALNAME:Ethos CRS
X-ORIGINAL-URL:https://ethoscrs.com.au
X-WR-CALDESC:Events for Ethos CRS
BEGIN:VTIMEZONE
TZID:Australia/Melbourne
BEGIN:STANDARD
TZOFFSETFROM:+1100
TZOFFSETTO:+1000
TZNAME:AEST
DTSTART:20200404T160000
END:STANDARD
BEGIN:DAYLIGHT
TZOFFSETFROM:+1000
TZOFFSETTO:+1100
TZNAME:AEDT
DTSTART:20201003T160000
END:DAYLIGHT
END:VTIMEZONE
BEGIN:VEVENT
DTSTART;TZID=Australia/Melbourne:20201007T113000
DTEND;TZID=Australia/Melbourne:20201007T123000
DTSTAMP:20260423T105219
CREATED:20200903T231338Z
LAST-MODIFIED:20201001T061520Z
UID:7619-1602070200-1602073800@ethoscrs.com.au
SUMMARY:Webinar – Clear writing style
DESCRIPTION:Join Kate Wall in conversation with an expert panel as they discuss clear writing style and why it’s important for busy professionals. \nThe panel includes Dr Amanda Laugesen from the Australian National Dictionary Centre; Chris Hammer\, author of Scrublands\, Silver and the soon to be published Trust; and Chas Savage\, Chief Executive Officer of Ethos CRS. \nClick here to register
URL:https://ethoscrs.com.au/event/webinar-clear-writing-style/
LOCATION:Online
CATEGORIES:Webinar
ATTACH;FMTTYPE=image/png:https://ethoscrs.com.au/wp-content/uploads/2020/09/Eventbrite-webinar-1-e1599174788877.png
END:VEVENT
END:VCALENDAR