BEGIN:VCALENDAR
VERSION:2.0
PRODID:-//Ethos CRS - ECPv5.3.2//NONSGML v1.0//EN
CALSCALE:GREGORIAN
METHOD:PUBLISH
X-WR-CALNAME:Ethos CRS
X-ORIGINAL-URL:https://ethoscrs.com.au
X-WR-CALDESC:Events for Ethos CRS
BEGIN:VTIMEZONE
TZID:Australia/Melbourne
BEGIN:STANDARD
TZOFFSETFROM:+1100
TZOFFSETTO:+1000
TZNAME:AEST
DTSTART:20200404T160000
END:STANDARD
BEGIN:DAYLIGHT
TZOFFSETFROM:+1000
TZOFFSETTO:+1100
TZNAME:AEDT
DTSTART:20201003T160000
END:DAYLIGHT
END:VTIMEZONE
BEGIN:VEVENT
DTSTART;TZID=Australia/Melbourne:20201111T093000
DTEND;TZID=Australia/Melbourne:20201112T123000
DTSTAMP:20260423T094711
CREATED:20201001T014850Z
LAST-MODIFIED:20201029T233957Z
UID:7980-1605087000-1605184200@ethoscrs.com.au
SUMMARY:Training – The essentials of Australian Government writing style
DESCRIPTION:Learn the new rules of the Australian Government Style Manual to make producing and communicating complex ideas easier with expert facilitator\, Chas Savage. \nThis workshop will be delivered on Zoom in two 3-hour sessions\, 9:30 am – 12:30 pm AEDT on 11 November and 12 November 2020. \nAbout Chas Savage \nAs the Chief Executive Officer and founder of Ethos CRS\, Chas Savage understands organisational systems and processes\, and how these work or don’t work in both the public and the private sector. Chas worked as a professional writer for over 10 years. He was a speechwriter and an opinion and features writer for several periodicals. \nClick here for tickets
URL:https://ethoscrs.com.au/event/training-the-essentials-of-australian-government-writing-style/
LOCATION:Online
CATEGORIES:Training
ATTACH;FMTTYPE=image/png:https://ethoscrs.com.au/wp-content/uploads/2020/10/Events-website-1.png
END:VEVENT
BEGIN:VEVENT
DTSTART;TZID=Australia/Melbourne:20201127T113000
DTEND;TZID=Australia/Melbourne:20201127T123000
DTSTAMP:20260423T094711
CREATED:20201029T043506Z
LAST-MODIFIED:20201125T234411Z
UID:8109-1606476600-1606480200@ethoscrs.com.au
SUMMARY:Webinar – Probity and integrity
DESCRIPTION:Dr Julia Cornwell McKean is a certified investigator\, probity adviser\, auditor and senior facilitator at Ethos CRS. She discusses probity\, integrity and procurement in the time of COVID-19 with Chas Savage\, Chief Executive Officer\, Ethos CRS\, and host Genevieve Jacobs. \nClick to register
URL:https://ethoscrs.com.au/event/webinar-probity-and-integrity/
LOCATION:Online
CATEGORIES:Webinar
ATTACH;FMTTYPE=image/png:https://ethoscrs.com.au/wp-content/uploads/2020/10/SOCIAL-MEDIA-DISPLAY-–-banner-1.png
END:VEVENT
END:VCALENDAR