BEGIN:VCALENDAR
VERSION:2.0
PRODID:-//Ethos CRS - ECPv5.3.2//NONSGML v1.0//EN
CALSCALE:GREGORIAN
METHOD:PUBLISH
X-WR-CALNAME:Ethos CRS
X-ORIGINAL-URL:https://ethoscrs.com.au
X-WR-CALDESC:Events for Ethos CRS
BEGIN:VTIMEZONE
TZID:Australia/Melbourne
BEGIN:STANDARD
TZOFFSETFROM:+1100
TZOFFSETTO:+1000
TZNAME:AEST
DTSTART:20210403T160000
END:STANDARD
BEGIN:DAYLIGHT
TZOFFSETFROM:+1000
TZOFFSETTO:+1100
TZNAME:AEDT
DTSTART:20211002T160000
END:DAYLIGHT
END:VTIMEZONE
BEGIN:VEVENT
DTSTART;TZID=Australia/Melbourne:20210120T093000
DTEND;TZID=Australia/Melbourne:20210121T123000
DTSTAMP:20260423T072906
CREATED:20201029T233940Z
LAST-MODIFIED:20201127T051657Z
UID:8119-1611135000-1611232200@ethoscrs.com.au
SUMMARY:Training – The essentials of Australian Government writing style – January
DESCRIPTION:Learn the new rules of the Australian Government Style Manual to make producing and communicating complex ideas easier with expert facilitator\, Chas Savage. \nThis workshop will be delivered on Zoom in two 3-hour sessions\, 9:30 am – 12:30 pm AEDT on 20 January and 21 January 2021. \nAbout Chas Savage \nAs the Chief Executive Officer and founder of Ethos CRS\, Chas Savage understands organisational systems and processes\, and how these work or don’t work in both the public and the private sector. Chas worked as a professional writer for over 10 years. He was a speechwriter and an opinion and features writer for several periodicals. \nClick here for tickets
URL:https://ethoscrs.com.au/event/training-the-essentials-of-australian-government-writing-style-january/
LOCATION:Online
CATEGORIES:Training
ATTACH;FMTTYPE=image/png:https://ethoscrs.com.au/wp-content/uploads/2020/10/EVENTBRITE-–-banner-2-e1604017104578.png
END:VEVENT
BEGIN:VEVENT
DTSTART;TZID=Australia/Melbourne:20210205T093000
DTEND;TZID=Australia/Melbourne:20210205T123000
DTSTAMP:20260423T072906
CREATED:20201130T130109Z
LAST-MODIFIED:20210201T050721Z
UID:8252-1612517400-1612528200@ethoscrs.com.au
SUMMARY:SOLD OUT: Training – The essentials of writing a compelling CV – February
DESCRIPTION:Learn how to write a compelling CV that will highlight your strengths\, your potential to perform and capture the interests of recruiters. \nThis workshop will be delivered on Zoom in one 3-hour session\, 9:30 am – 12:30 pm AEDT on 5 February 2021. \nAbout Mary Harwood \nMary is an experienced facilitator and learning designer who delivers training in the areas of writing\, change management\, policy\, stakeholder management and critical thinking. Mary has extensive experience as a senior executive\, having worked as a first assistant secretary in three Australian Government departments. \nThis event is now sold out\, find future deliveries here
URL:https://ethoscrs.com.au/event/workshop-the-essentials-of-writing-a-compelling-cv-february/
LOCATION:Online
CATEGORIES:Training
ATTACH;FMTTYPE=image/png:https://ethoscrs.com.au/wp-content/uploads/2020/11/FEB-MH-The-essentials-of-writing-a-compelling-CV.png
END:VEVENT
END:VCALENDAR