BEGIN:VCALENDAR
VERSION:2.0
PRODID:-//Ethos CRS - ECPv5.3.2//NONSGML v1.0//EN
CALSCALE:GREGORIAN
METHOD:PUBLISH
X-WR-CALNAME:Ethos CRS
X-ORIGINAL-URL:https://ethoscrs.com.au
X-WR-CALDESC:Events for Ethos CRS
BEGIN:VTIMEZONE
TZID:Australia/Melbourne
BEGIN:STANDARD
TZOFFSETFROM:+1100
TZOFFSETTO:+1000
TZNAME:AEST
DTSTART:20210403T160000
END:STANDARD
BEGIN:DAYLIGHT
TZOFFSETFROM:+1000
TZOFFSETTO:+1100
TZNAME:AEDT
DTSTART:20211002T160000
END:DAYLIGHT
END:VTIMEZONE
BEGIN:VEVENT
DTSTART;TZID=Australia/Melbourne:20210406T093000
DTEND;TZID=Australia/Melbourne:20210407T123000
DTSTAMP:20260422T021602
CREATED:20201130T130107Z
LAST-MODIFIED:20210309T014449Z
UID:8346-1617701400-1617798600@ethoscrs.com.au
SUMMARY:Training – The essentials of project management – April
DESCRIPTION:Learn the essentials of project management and project development from an experienced project manager – Peter Morris. \nThis workshop will be delivered on Zoom in two 3-hour sessions\, 9:30 am – 12:30 pm AEST on 6 April and 7 April 2021. \nAbout Peter Morris \nPeter is a qualified and experienced professional who as an army officer developed into a thoughtful and effective leader. He has managed public service teams to deliver projects on time\, to the required standard and within budget. \nPeter is a Fellow of the Australian Institute of Managers and Leaders\, and a Graduate Member of the Australian Institute of Company Directors. \nClick here to enrol
URL:https://ethoscrs.com.au/event/training-the-essentials-of-project-management-april/
LOCATION:Online
CATEGORIES:Management workshops,Training
ATTACH;FMTTYPE=image/png:https://ethoscrs.com.au/wp-content/uploads/2020/11/APR-PM-The-essentials-of-project-management.png
END:VEVENT
BEGIN:VEVENT
DTSTART;TZID=Australia/Melbourne:20210408T093000
DTEND;TZID=Australia/Melbourne:20210408T123000
DTSTAMP:20260422T021602
CREATED:20201130T130104Z
LAST-MODIFIED:20210309T014459Z
UID:8362-1617874200-1617885000@ethoscrs.com.au
SUMMARY:Training – The essentials of writing board and executive papers – April
DESCRIPTION:Learn how to write\, edit and present clear documents\, that present complex ideas in a way that is accessible and influential. \nThis workshop will be delivered on Zoom in one 3-hour session\, 9:30 am – 12:30 pm AEST on 8 April 2021. \nAbout Chas Savage \nAs the Chief Executive Officer and founder of Ethos CRS\, Chas Savage understands organisational systems and processes\, and how these work or don’t work in both the public and the private sector. Chas worked as a professional writer for over 10 years. He was a speechwriter and an opinion and features writer for several periodicals. \nClick here to enrol
URL:https://ethoscrs.com.au/event/training-the-essentials-of-writing-april-board-and-executive-papers-2/
LOCATION:Online
CATEGORIES:Training,Writing workshops
ATTACH;FMTTYPE=image/png:https://ethoscrs.com.au/wp-content/uploads/2020/12/APR-CRS-The-essentials-of-writing-board-and-executive-papers.png
END:VEVENT
BEGIN:VEVENT
DTSTART;TZID=Australia/Melbourne:20210409T093000
DTEND;TZID=Australia/Melbourne:20210409T123000
DTSTAMP:20260422T021602
CREATED:20201130T130134Z
LAST-MODIFIED:20210309T014509Z
UID:8295-1617960600-1617971400@ethoscrs.com.au
SUMMARY:Training – The essentials of writing a compelling CV – April
DESCRIPTION:Learn how to write a compelling CV that will highlight your strengths\, your potential to perform and capture the interests of recruiters. \nThis workshop will be delivered on Zoom in one 3-hour session\, 9:30 am – 12:30 pm AEST on 9 April 2021. \nAbout our facilitators \nEach of our facilitators has extensive experience operating in different areas and roles of the public sector and private organisations. \nThroughout their careers\, our facilitators have handled complex\, high-stakes negotiations in Australia and international organisations such as the World Trade Organization and the United Nations. They have held senior executive positions in the public sector\, managed complex projects and represented government on high-stakes issues. They have advised prime ministers and treasurers\, implemented communications strategies for election campaigns\, developed innovation strategies and handled high-risk programs and regulatory interventions. \nClick here to enrol
URL:https://ethoscrs.com.au/event/virtual-workshop-the-essentials-of-writing-a-compelling-cv-april/
LOCATION:Online
CATEGORIES:Career development workshops,Training,Writing workshops
ATTACH;FMTTYPE=image/png:https://ethoscrs.com.au/wp-content/uploads/2020/12/APR-MH-The-essentials-of-writing-a-compelling-CV.png
END:VEVENT
BEGIN:VEVENT
DTSTART;TZID=Australia/Melbourne:20210412T133000
DTEND;TZID=Australia/Melbourne:20210413T163000
DTSTAMP:20260422T021602
CREATED:20201130T130153Z
LAST-MODIFIED:20210309T014521Z
UID:8375-1618234200-1618331400@ethoscrs.com.au
SUMMARY:Training – The essentials of Australian Government writing style – April
DESCRIPTION:Learn the new rules of the Australian Government Style Manual to make producing and communicating complex ideas easier. \nThis workshop will be delivered on Zoom in two 3-hour sessions\, 1:30 pm – 4:30 pm AEST on 12 April and 13 April 2021. \nAbout Kate Wall \nKate Wall is an expert facilitator and an experienced communications expert. She worked as an adviser to a minister for foreign affairs. Kate has extensive knowledge in coaching individuals to produce quality documents that communicate messages clearly. Kate trains groups and individuals to write for ministers\, departments and agencies\, with a strong focus on communicating key messages. \nClick here to enrol
URL:https://ethoscrs.com.au/event/training-the-essentials-of-australian-government-writing-style-april/
LOCATION:Online
CATEGORIES:Training,Writing workshops
ATTACH;FMTTYPE=image/png:https://ethoscrs.com.au/wp-content/uploads/2020/11/APR-KW-The-essentials-of-Australian-Government-writing-style.png
END:VEVENT
BEGIN:VEVENT
DTSTART;TZID=Australia/Melbourne:20210422T093000
DTEND;TZID=Australia/Melbourne:20210422T123000
DTSTAMP:20260422T021602
CREATED:20201130T130121Z
LAST-MODIFIED:20210309T014535Z
UID:8309-1619083800-1619094600@ethoscrs.com.au
SUMMARY:Training – The essentials of an online job interview – April
DESCRIPTION:Learn the essentials skills of an online job interview\, to put yourself ahead of the curve and kick start your new career. \nThis workshop will be delivered on Zoom in one 3-hour session\, 9:30 am – 12:30 pm AEST on 22 April 2021. \nAbout Dr Julia Cornwell McKean \nJulia is an expert facilitator specialising in the provision of audit\, policy\, probity\, risk management and compliance services to public sector clients. \nAn experienced regulator and executive\, Julia has chaired a number of international committees and was a lead expert for the United Nations’ Internet Governance Forum. In 2015\, she received an Australia Day award in recognition of her work. \nClick here to enrol
URL:https://ethoscrs.com.au/event/virtual-workshop-the-essentials-of-an-online-job-interview-april/
LOCATION:Online
CATEGORIES:Career development workshops,Training
ATTACH;FMTTYPE=image/png:https://ethoscrs.com.au/wp-content/uploads/2020/12/APR-JCM-The-essentials-of-an-online-job-interview.png
END:VEVENT
BEGIN:VEVENT
DTSTART;TZID=Australia/Melbourne:20210427T093000
DTEND;TZID=Australia/Melbourne:20210427T123000
DTSTAMP:20260422T021602
CREATED:20201130T130143Z
LAST-MODIFIED:20210309T014548Z
UID:8358-1619515800-1619526600@ethoscrs.com.au
SUMMARY:Training – The essentials of effective business writing – April
DESCRIPTION:Learn the crucial components of business writing to ensure that message\, policies and services are clearly communicated to its audience. \nThis workshop will be delivered on Zoom in one 3-hour session\, 9:30 am – 12:30 pm AEST on 27 April 2021. \nAbout Lynn Sweeney \nLynn is an experienced facilitator\, researcher\, writer and policy developer. She has over 25 years’ experience as a policy professional in the several government and non-government organisations. \nShe also worked as a freelance writer and editor for local government in Victoria\, applying her extensive knowledge of plain English and clear writing principles. She has also worked as a lecturer in Urban Economics. \nClick here to enrol
URL:https://ethoscrs.com.au/event/training-the-essentials-of-effective-business-writing-april/
LOCATION:Online
CATEGORIES:Training,Writing workshops
ATTACH;FMTTYPE=image/png:https://ethoscrs.com.au/wp-content/uploads/2020/11/LONG-BANNER-2_1-2.png
END:VEVENT
END:VCALENDAR